BEGIN:VCALENDAR
VERSION:2.0
PRODID:-//Doheny Eye Institute - ECPv6.15.16//NONSGML v1.0//EN
CALSCALE:GREGORIAN
METHOD:PUBLISH
X-WR-CALNAME:Doheny Eye Institute
X-ORIGINAL-URL:https://doheny.org
X-WR-CALDESC:Events for Doheny Eye Institute
REFRESH-INTERVAL;VALUE=DURATION:PT1H
X-Robots-Tag:noindex
X-PUBLISHED-TTL:PT1H
BEGIN:VTIMEZONE
TZID:America/Denver
BEGIN:DAYLIGHT
TZOFFSETFROM:-0700
TZOFFSETTO:-0600
TZNAME:MDT
DTSTART:20250309T090000
END:DAYLIGHT
BEGIN:STANDARD
TZOFFSETFROM:-0600
TZOFFSETTO:-0700
TZNAME:MST
DTSTART:20251102T080000
END:STANDARD
BEGIN:DAYLIGHT
TZOFFSETFROM:-0700
TZOFFSETTO:-0600
TZNAME:MDT
DTSTART:20260308T090000
END:DAYLIGHT
BEGIN:STANDARD
TZOFFSETFROM:-0600
TZOFFSETTO:-0700
TZNAME:MST
DTSTART:20261101T080000
END:STANDARD
BEGIN:DAYLIGHT
TZOFFSETFROM:-0700
TZOFFSETTO:-0600
TZNAME:MDT
DTSTART:20270314T090000
END:DAYLIGHT
BEGIN:STANDARD
TZOFFSETFROM:-0600
TZOFFSETTO:-0700
TZNAME:MST
DTSTART:20271107T080000
END:STANDARD
END:VTIMEZONE
BEGIN:VEVENT
DTSTART;TZID=America/Denver:20260503T063000
DTEND;TZID=America/Denver:20260503T080000
DTSTAMP:20260423T021713
CREATED:20260303T202851Z
LAST-MODIFIED:20260330T231228Z
UID:10000257-1777789800-1777795200@doheny.org
SUMMARY:Doheny-UCLA Annual Breakfast Forum at ARVO 2026
DESCRIPTION:Eye on Innovation: Cutting-Edge New Approach Methodologies in Ophthalmology\nNAMs are transforming vision research. Join global leaders exploring retinal organoids\, microfluidic systems\, and AI-driven models. \nAs biomedical research shifts toward more predictive\, human-relevant systems\, New Approach Methodologies (NAMs) are redefining how we study ocular disease and develop therapies. From advanced 3D tissue engineering to micro-physiological systems and AI-powered digital platforms\, these technologies are accelerating discovery while aligning with emerging scientific and regulatory priorities. \nThis forum brings together internationally recognized leaders to showcase three cutting-edge NAM platforms transforming vision research: \n\nA microfluidic retinal ganglion cell system\nOrganoid model of the retina\nAn AI-enabled “digital twin” of the retinal pigment epithelium\n\nBrief presentations will be followed by an interactive discussion. \nDate: Sunday\, May 3\, 2026Time: 6:30 AM – 8:00 AM (MDT)Location:  Hyatt Regency Denver at Colorado Convention Center\, 650 15th St\, Denver\, CO 80202Conference Room: Mineral Hall D-E \n			\n			\n				\n				\n				\n				\n			\n				\n				\n				\n				\n				\n				\n				\n				\n				\n				\n				\n			\n			\n				\n				\n				\n				\n				\n				\n				\n				\n				\n				“Retinal Vasculature as a Window into Systemic Disease and Oculomics” \nAmani A Fawzi\, MD \nCyrus Tang and Lee Jampol Professor of Ophthalmology\nNorthwestern Memorial Hospital\nNorthwestern University\, Feinberg School of Medicine\n			\n				Read Bio\n			\n			\n				\n				\n				\n				\n			\n				\n				\n				\n				\n				\n				\n				\n				\n				\n				\n				\n			\n			\n				\n				\n				\n				\n				\n				\n				\n				\n				\n				“OCT Angiography in Systemic Diseases”  \nYali Jia\, PhD \nProfessor of Ophthalmology\, School of Medicine\nProfessor of Biomedical Engineering\, School of Medicine\nJennie P. Weeks Professor of Ophthalmology\nBiomedical Engineering Graduate Program\, School of Medicine\nOregon Health & Science University\n			\n				Read Bio\n			\n			\n				\n				\n				\n				\n			\n				\n				\n				\n				\n				\n				\n				\n				\n				\n				\n				\n			\n			\n				\n				\n				\n				\n				\n				\n				\n				\n				\n				“Retinal Biomarkers in Oculomics: From Phenotype to Mechanism” \nJianhua (Jay) Wang\, MD\, PhD  \nProfessor\nScientific Co-Director of Experimental Imaging Laboratory\nDepartment of Ophthalmology Bascom Palmer Eye Institute\nMiller School of Medicine\, University of Miami\n			\n			\n				\n				\n				\n				\n			\n				\n				\n				\n				\n				\n				\n				\n				\n				\n				\n				  \nModerator:\n			\n			\n				\n				\n				\n				\n			\n				\n				\n				\n				\n				\n				\n				\n				\n				\n				\n				\n			\n			\n				\n				\n				\n				\n				\n				\n				\n				\n				\n				Giulia Corradetti\, MD\nScientist\nDoheny Eye Institute\n			\n			\n				\n				\n				\n				\n			\n				\n				\n				\n				\n				\n				\n				\n				\n				\n				\n				  \nHosts:\n			\n			\n				\n				\n				\n				\n			\n				\n				\n				\n				\n				\n				\n				\n				\n				\n				\n				\n			\n			\n				\n				\n				\n				\n				\n				\n				\n				\n				\n				Deborah A. Ferrington\, PhD  Chief Scientific OfficerStephen J. Ryan-Arnold and Mabel Beckman FoundationEndowed Presidential Chair\, Doheny Eye InstituteProfessor of Ophthalmology\, UCLA \n			\n			\n				\n				\n				\n				\n			\n				\n				\n				\n				\n				\n				\n				\n				\n				\n				\n				\n			\n			\n				\n				\n				\n				\n				\n				\n				\n				\n				\n				Roxana A. Radu\, MDAssociate Professor of OphthalmologyVernon O. Underwood Family Endowed Chair in Ophthalmology David Geffen School of Medicine\, UCLAPrincipal Investigator\, Jules Stein Eye Institute – UCLA \n			\n			\n				\n				\n				\n				\n			\n				\n				\n				\n				\n				\n				\n				\n				\n				\n				\n				  \nPresentations/Speakers: \n			\n			\n				\n				\n				\n				\n			\n				\n				\n				\n				\n				\n				\n				\n				\n				\n				\n				\n			\n			\n				\n				\n				\n				\n				\n				\n				\n				\n				\n				Engineering the Human Optic Nerve on a Chip: An iPSC-Derived Microfluidic Retinal Ganglion Cell PlatformJason Meyer\, PhDA. Donald Merritt Professor of Medical & Molecular GeneticsDirector\, Stark Neurosciences Stem Cell Research Group\,Indiana University School of Medicine \n			\n			\n				\n				\n				\n				\n			\n				\n				\n				\n				\n				\n				\n				\n				\n				\n				\n				\n			\n			\n				\n				\n				\n				\n				\n				\n				\n				\n				\n				Building a 3D Human Model of the Outer RetinaValeria Canto-Soler\, PhDDoni Solich Family Chair in Ocular Stem Cell ResearchDirector\, CellSight – Ocular Stem Cell and Regeneration Research Program\, University of Colorado School of Medicine \n			\n			\n				\n				\n				\n				\n			\n				\n				\n				\n				\n				\n				\n				\n				\n				\n				\n				\n			\n			\n				\n				\n				\n				\n				\n				\n				\n				\n				\n				RPE Digital Twin Reveals Subtype-Specific Polarization and Mesenchymal Drift in Ciliopathy RPE CellsKapil Bharti\, PhDSenior Investigator\, Ocular & Stem Cell Translational ResearchScientific Director\, National Eye Institute \n			\n			\n				\n				\n				\n				\n			\n				\n				\n				\n				\n				\n				\n			\n				\n				\n				\n				\n			\n				\n				\n				\n				\n				\n				\n				\n				\n				\n				\n				REGISTER TODAY!\n			\n			\n				\n				\n				\n				\n			\n				\n				\n				\n				\n				\n				\n				CLICK HERE TO RSVP
URL:https://doheny.org/event/doheny-ucla-annual-breakfast-forum-at-arvo-2026/
LOCATION:Hyatt Regency Denver at Colorado Convention Center\, 650 15th St\, Denver\, CO\, 80202\, United States
CATEGORIES:Professional Alumni Association
ATTACH;FMTTYPE=image/jpeg:https://doheny.org/wp-content/uploads/2026/03/Doheny_ARVO_2026_Bfast_Postcard_11x6_v12-scaled.jpg
ORGANIZER;CN="Doheny Eye Institute":MAILTO:rsvp@doheny.org
END:VEVENT
BEGIN:VEVENT
DTSTART;TZID=America/Denver:20260504T180000
DTEND;TZID=America/Denver:20260504T180000
DTSTAMP:20260423T021713
CREATED:20260305T204711Z
LAST-MODIFIED:20260408T184309Z
UID:10000258-1777917600-1777917600@doheny.org
SUMMARY:Annual Alumni Reception at ARVO 2026
DESCRIPTION:Annual Alumni Reception at ARVO\nReconnect with colleagues at the 2026 ARVO Alumni Reception\, May 4\, 6–9 PM at Former Saint Craft Kitchen & Taps\, Hyatt Regency Denver. \nReconnect\, network\, and celebrate our shared commitment to advancing eye health at the 2026 ARVO Annual Alumni Reception. Join us Monday\, May 4\, 2026\, from 6:00–9:00 p.m. at Former Saint Craft Kitchen & Taps\, located inside the Hyatt Regency Denver at the Convention Center on the lobby level\, for an evening of conversation\, food\, and drinks with colleagues and friends. \nDate: Monday\, May 4\, 2026\, 6:00 – 9:00 p.m.Time: 6:00 PM – 9:00 PM (MDT)Location: Hyatt Regency Denver at Colorado Convention Center\, 650 15th St\, Denver\, CO 80202Conference Room: Former Saint Craft Kitchen and Taps\, Lobby level \n			\n			\n				\n				\n				\n				\n			\n				\n				\n				\n				\n				\n				\n				\n				\n				\n				\n				RSVP TODAY!\n			\n				CLICK HERE TO RSVP
URL:https://doheny.org/event/annual-alumni-reception-at-arvo-2026/
LOCATION:Hyatt Regency Denver at Colorado Convention Center\, 650 15th St\, Denver\, CO\, 80202\, United States
CATEGORIES:Professional Alumni Association
ATTACH;FMTTYPE=image/jpeg:https://doheny.org/wp-content/uploads/2026/03/Doheny-ARVO-2026-Reception-Event-1684x955-v1-.jpg
ORGANIZER;CN="Doheny Eye Institute":MAILTO:rsvp@doheny.org
END:VEVENT
END:VCALENDAR