BEGIN:VCALENDAR
VERSION:2.0
PRODID:-//Doheny Eye Institute - ECPv6.15.16//NONSGML v1.0//EN
CALSCALE:GREGORIAN
METHOD:PUBLISH
X-ORIGINAL-URL:https://doheny.org
X-WR-CALDESC:Events for Doheny Eye Institute
REFRESH-INTERVAL;VALUE=DURATION:PT1H
X-Robots-Tag:noindex
X-PUBLISHED-TTL:PT1H
BEGIN:VTIMEZONE
TZID:America/Los_Angeles
BEGIN:DAYLIGHT
TZOFFSETFROM:-0800
TZOFFSETTO:-0700
TZNAME:PDT
DTSTART:20250309T100000
END:DAYLIGHT
BEGIN:STANDARD
TZOFFSETFROM:-0700
TZOFFSETTO:-0800
TZNAME:PST
DTSTART:20251102T090000
END:STANDARD
BEGIN:DAYLIGHT
TZOFFSETFROM:-0800
TZOFFSETTO:-0700
TZNAME:PDT
DTSTART:20260308T100000
END:DAYLIGHT
BEGIN:STANDARD
TZOFFSETFROM:-0700
TZOFFSETTO:-0800
TZNAME:PST
DTSTART:20261101T090000
END:STANDARD
BEGIN:DAYLIGHT
TZOFFSETFROM:-0800
TZOFFSETTO:-0700
TZNAME:PDT
DTSTART:20270314T100000
END:DAYLIGHT
BEGIN:STANDARD
TZOFFSETFROM:-0700
TZOFFSETTO:-0800
TZNAME:PST
DTSTART:20271107T090000
END:STANDARD
END:VTIMEZONE
BEGIN:VEVENT
DTSTART;TZID=America/Los_Angeles:20260321T093000
DTEND;TZID=America/Los_Angeles:20260321T163000
DTSTAMP:20260423T022236
CREATED:20251219T224156Z
LAST-MODIFIED:20260325T185546Z
UID:10000255-1774085400-1774110600@doheny.org
SUMMARY:Annual CME Conference 2026: The Front Line of Vision Care: Cornea\, Ocular Surface\, and Refractive Advances
DESCRIPTION:Thank you for joining us for the Annual CME Conference: The Front Line of Vision Care: Cornea\, Ocular Surface\, and Refractive Advances at Doheny Eye Institute on Saturday\, March 21\, 2026. \nThis CME course highlighted current and evolving concepts in cornea\, refractive surgery\, and comprehensive ophthalmology. Through focused lectures and case-based discussions\, expert faculty reviewed practical\, evidence-based approaches to diagnosis and management\, with an emphasis on techniques and insights that can be applied immediately in clinical practice. \nSaturday\, March 21\, 20269:30 AM – 4:30 PM \nDoheny Eye Institute150 North Orange Grove Blvd.Pasadena\, CA 91103 \nRegistration fee: $100 in-person/virtual or $125 at the door \nCourse Directors:Victoria Yom\, MDKenneth Lu\, MDJonathan Macy\, MD \n			\n				VIEW THE PROGRAM\n			\n			\n				\n				\n				\n				\n			\n				\n				\n				\n				\n				\n				\n				\n				\n				\n				\n				Special Presentations \n			\n			\n				\n				\n				\n				\n			\n				\n				\n				\n				\n				\n				\n				\n				\n				\n				\n				\n			\n			\n				\n				\n				\n				\n				\n				\n				\n				\n				\n				Irvine Memorial LecturerKathryn A. Colby\, MD\, PhDElisabeth J. Cohen\, M.D. Professor of OphthalmologyChair\, Department of OphthalmologyNYU Grossman School of MedicineNYU Langone Health \n			\n			\n				\n				\n				\n				\n			\n				\n				\n				\n				\n				\n				\n				\n				\n				\n				\n				\n\n			\n				\n				\n				\n				\n				Accreditation Statement: Doheny Eye Institute is accredited by the California Medical Association (CMA) to provide continuing medical education for physicians.\nCredit Designation: Doheny Eye Institute designates this activity for a maximum of 5 AMA PRA Category 1 Credits™. Physicians should claim only the credit commensurate with the extent of their participation in the activity.
URL:https://doheny.org/event/annual-cme-conference-2026/
LOCATION:Doheny Eye Institute\, 150 North Orange Grove Blvd. Rm 264\, Pasadena\, CA\, 91103\, United States
CATEGORIES:Continuing Medical Education,Professional Alumni Association
ATTACH;FMTTYPE=image/jpeg:https://doheny.org/wp-content/uploads/2025/12/Doheny-Annual-CME-Conf-Image2026_v2.jpg
ORGANIZER;CN="Doheny Eye Institute":MAILTO:rsvp@doheny.org
GEO:34.1488792;-118.1594996
X-APPLE-STRUCTURED-LOCATION;VALUE=URI;X-ADDRESS=Doheny Eye Institute 150 North Orange Grove Blvd. Rm 264 Pasadena CA 91103 United States;X-APPLE-RADIUS=500;X-TITLE=150 North Orange Grove Blvd. Rm 264:geo:-118.1594996,34.1488792
END:VEVENT
BEGIN:VEVENT
DTSTART;TZID=America/Los_Angeles:20260321T173000
DTEND;TZID=America/Los_Angeles:20260321T210000
DTSTAMP:20260423T022236
CREATED:20260114T000417Z
LAST-MODIFIED:20260323T155249Z
UID:10000256-1774114200-1774126800@doheny.org
SUMMARY:Doheny Distinguished Alumnus Dinner: Celebrating John C. Affeldt\, MD
DESCRIPTION:Thank you for joining us for a special evening as we celebrated John C. Affeldt\, MD\, our 2026 Doheny Distinguished Alumnus. \nThis was a fun and meaningful gathering\, an opportunity to reconnect with fellow alumni\, share stories\, and reminisce about your time at Doheny. Dr. Affeldt’s career reflects the very best of Doheny’s traditions: rigorous training\, generous teaching\, and lifelong service. A cornea and ocular surface specialist\, dedicated educator\, and longtime steward of the Doheny alumni community\, he embodies the spirit and legacy that make Doheny so special. \nSaturday\, March 21\, 20265:30 PM – 9:00 PMPrivate club in Pasadena\, CA \nAbout Dr. Affeldt2026 Doheny Distinguished AlumnusJohn C. Affeldt\, MD\, is a cornea and ocular surface specialist whose career reflects the very best of Doheny’s traditions: rigorous training\, generous teaching\, and lifelong service. He earned his medical degree at the Keck School of Medicine of USC and completed his internship\, research fellowship\, residency\, and cornea fellowship training through the Doheny program and at the Bascom Palmer Eye Institute. \nFrom 1996 to 2005\, Dr. Affeldt returned to L.A. County/USC Medical Center as a volunteer attending\, devoting countless hours to the education and mentorship of residents and fellows. In clinic\, conference rooms\, and operating rooms\, he became a trusted teacher and steady presence\, helping to shape the careers of over 70 ophthalmologists\, many of whom are now respected leaders in academic medicine\, clinical practice\, and organized ophthalmology. \nDr. Affeldt’s professional interests span dry eye disease\, neurotrophic keratitis\, and complex ocular surface and inflammatory conditions. Today\, he pursues his academic career as an Associate Professor at Loma Linda University Eye Institute and as Director of the Dry Eye Center of Excellence\, where his work continues to blend clinical innovation with a deep commitment to education. His contributions to research\, clinical trials\, and continuing medical education are plentiful and have garnered multiple Teacher of the Year honors. \nEqually important is Dr. Affeldt’s dedication to preserving Doheny’s history and community. He has long served as Secretary and Treasurer of the Doheny Professional Alumni Association and was instrumental in creating a commemorative book honoring Doheny residents\, fellows\, attendings\, and interns from the earliest days at L.A. County/USC Medical Center through 2006. \nIn recognition of a career that has influenced people\, preserved history\, and advanced the field\, Dr. John C. Affeldt has been selected as the 2026 Doheny Distinguished Alumnus.
URL:https://doheny.org/event/doheny-distinguished-alumnus-dinner-celebrating-john-c-affeldt-md/
LOCATION:Private club in Pasadena\, CA\, Pasadena\, United States
CATEGORIES:Professional Alumni Association
ATTACH;FMTTYPE=image/jpeg:https://doheny.org/wp-content/uploads/2026/01/Doheny_2026_Distinguished_Alum_Dinner_Web_v3_.jpg
ORGANIZER;CN="Doheny Eye Institute":MAILTO:rsvp@doheny.org
END:VEVENT
BEGIN:VEVENT
DTSTART;TZID=America/Los_Angeles:20260325T120000
DTEND;TZID=America/Los_Angeles:20260325T130000
DTSTAMP:20260423T022236
CREATED:20251001T192004Z
LAST-MODIFIED:20260414T192639Z
UID:10000252-1774440000-1774443600@doheny.org
SUMMARY:Distinguished Lecture Series March 2026 — Aaron Lee\, MD\, MSCI
DESCRIPTION:Distinguished Lecture Series March 2026 — Aaron Lee\, MD\, MSCI\n			\n				\n				\n				\n				\n				Our 2026 Doheny Distinguished Lecture Series (DLS) March lecture will be delivered by Aaron Lee\, MD\, MSCI\, on Wednesday\, March 25\, 2026. Please refer to the lecture details below. \n\nDate: 3/25/26\nDLS Speaker: Aaron Lee\, MD\, MSCIChair and Arthur W. Stickle Distinguished ProfessorJohn F. Hardesty\, MD\, Department of Ophthalmology & Visual SciencesWashington University School of Medicine\, St. Louis\nPresentation Title: “Deep Learning Applications in Ophthalmology: The Past\, Present\, and Future”\nTime: 12:00 – 1:00 pm\nLocation: Doheny Eye Institute\, 2nd Floor Conference Room\, 150 North Orange Grove Blvd.\, Pasadena\, CA\n\nBio:Dr. Aaron Y. Lee is a physician-scientist whose research bridges ophthalmology and artificial intelligence / computational medicine. He develops interpretable\, generalizable AI and deep learning models that integrate multimodal health data (e.g.\, retinal imaging + EHRs) to detect eye disease and systemic conditions. In his most recent high-impact work\, he is co-leading AI-READI\, an ethically governed\, multimodal dataset initiative for type 2 diabetes intended to power fair\, transparent AI investigations across diverse populations.
URL:https://doheny.org/event/distinguished-lecture-series-march-2026-aaron-lee-md-msci/
LOCATION:Doheny Eye Institute\, 150 North Orange Grove Blvd. Rm 264\, Pasadena\, CA\, 91103\, United States
CATEGORIES:Distinguished Lecture Series
ATTACH;FMTTYPE=image/jpeg:https://doheny.org/wp-content/uploads/2025/10/Doheny-DLS-Aaron-Lee_Page-Topper.jpg
ORGANIZER;CN="Doheny Eye Institute":MAILTO:info@doheny.org
GEO:34.1488792;-118.1594996
X-APPLE-STRUCTURED-LOCATION;VALUE=URI;X-ADDRESS=Doheny Eye Institute 150 North Orange Grove Blvd. Rm 264 Pasadena CA 91103 United States;X-APPLE-RADIUS=500;X-TITLE=150 North Orange Grove Blvd. Rm 264:geo:-118.1594996,34.1488792
END:VEVENT
END:VCALENDAR